Workbook

Sheet Orçamento
B1: OBJETO: CONTRATAÇÃO DE EMPRESA ESPECIALIZADA, PARA CONSTRUÇÃO DO PORTAL, LOCALIZADO NO ACESSO DO CENTRO DE EVENTOS MUNICIPAL DE JABORÁ-SC, CONFORME PLANILHA ORÇAMENTÁRIA, MEMORIAL DESCRITÍVO E PROJETOS.
P2: Proprietário: | Q2: PREFEITURA MUNICIPAL DE JABORÁ - SECRETARIA DE EDUCAÇÃO E DESPORTO | T2: CNPJ:
B3: PROPRIETÁRIO | D3: MUNICIPIO DE JABORÁ-SC | F3: CNPJ | H3: 82.939.463/0001-88 | J3: BDI 23,19%
B4: ENDEREÇO | D4: CENTRO DE EVENTOS MUNICIPAL DE JABORÁ-SC, ACESSO PÚBLICO. | P4: Endereço da Obra: | Q4: Rua Anésio Miotto, nº215, centro | T4: CEP:
B5: RESPONSÁVEL TÉCNICO | D5: ENG. CIVIL MATHEUS GREZEL CREA/SC 158844-1 - MG ENGENHARIA E CONSTRUÇÕES LTDA | F5: CNPJ | H5: 47.193.250/0004-59
B6: REFERÊNCIAS: | D6: SINAPI 09/2025/ MERCADO LOCAL/ DEINFRA | F6: DATA | H6: 27 de Outubro de 2025 | P6: Resp. Técnico: | Q6: ENG CIVIL. MATHEUS GREZEL CREA/SC 158844-1 / MG ENGENHARIA E CONSTRUÇÕES LTDA | T6: CNPJ:
P7: Referências: | Q7: Sinapi_01/2024/ Mercado Local/Deinfra | T7: Data:
B8: Item | C8: Banco | D8: Código | E8: Descrição | F8: Un. | G8: Qtd. | H8: CIUSTO UNITARIO SEM BDI R$ | I8: BDI 23,19% | J8: CIUSTO UNITARIO COM BDI R$ | K8: PREÇO TOTAL R$
B10: 1 | E10: SERVIÇOS PRELIMINARES | K10: =K11+K12+K13 -> 9057.0283
B11: 1.1 | C11: DEINFRA | D11: 43222 | E11: EXECUÇÃO DE DEPÓSITO EM CANTEIRO DE OBRA EM CHAPA DE MADEIRA COMPENSADA 12MM, SEM FORRO | F11: M2 | G11: 9 | H11: 406.36 | I11: 0.2319 | J11: =H11*1.2319 -> 500.59488 | K11: =J11*G11 -> 4505.354
B12: 1.2 | C12: SINAPI | D12: 103689 | E12: PLACA DE OBRA (PARA CONSTRUCAO CIVIL) EM CHAPA GALVANIZADA *N. 22*, ADESIVADA, DE 2,4 X 1,2* M | F12: M2 | G12: 2.88 | H12: 463.66 | I12: 0.2319 | J12: =H12*1.2319 -> 571.18275 | K12: =J12*G12 -> 1645.0063
B13: 1.3 | C13: SINAPI | D13: 99059 | E13: LOCAÇÃO CONVENCIONAL DE OBRA, UTILIZANDO GABARITO DE TABUAS CORRIDAS PONTALETADAS A CADA 2,0M - 2 UTILIZAÇÕES AF03/2024 | F13: M | G13: 26 | H13: 90.75 | I13: 0.2319 | J13: =H13*1.2319 -> 111.79493 | K13: =J13*G13 -> 2906.6681
B14: 2 | E14: FUNDAÇÃO | K14: =K15+K17+K16+K18+K19+K20+K21+K22 -> 43777.052
B15: 2.1 | C15: SINAPI | D15: 90082 | E15: ESCAVAÇÃO MECANIZADA DE VALA COM PROF. ATÉ 1,5 M (MÉDIA MONTANTE E JUSANTE/UMA COMPOSIÇÃO POR TRECHO), ESCAVADEIRA (0,8 M3), LARG. DE 1,5 M A 2,5 M, EM SOLO DE 1A CATEGORIA, EM LOCAIS COM ALTO NÍVEL DE INTERFERÊNCIA. AF_09/2024 | F15: M3 | G15: 11.25 | H15: 10.22 | I15: 0.2319 | J15: =H15*1.2319 -> 12.590018 | K15: =J15*G15 -> 141.6377
B16: 2.2 | C16: SINAPI | D16: 104916 | E16: ARMAÇÃO DE SAPATA ISOLADA, VIGA BALDRAME E SAPATA CORRIDA UTILIZANDO AÇO CA-60 DE 5 MM - MONTAGEM. AF_01/2024 | F16: kg | G16: 65 | H16: 16.9 | I16: 0.2319 | J16: =H16*1.2319 -> 20.81911 | K16: =J16*G16 -> 1353.2421
B17: 2.3 | C17: SINAPI | D17: 104917 | E17: ARMAÇÃO DE SAPATA ISOLADA, VIGA BALDRAME E SAPATA CORRIDA UTILIZANDO AÇO CA-50 DE 6,3 MM - MONTAGEM. AF_01/2024 | F17: kg | G17: 82 | H17: 15.27 | I17: 0.2319 | J17: =H17*1.2319 -> 18.811113 | K17: =J17*G17 -> 1542.5113
B18: 2.4 | C18: SINAPI | D18: 104191 | E18: ARMAÇÃO DE SAPATA ISOLADA, VIGA BALDRAME E SAPATA CORRIDA UTILIZANDO AÇO CA-50 DE 10 MM - MONTAGEM. AF_01/2024 | F18: kg | G18: 96 | H18: 12.22 | I18: 0.2319 | J18: =H18*1.2319 -> 15.053818 | K18: =J18*G18 -> 1445.1665
B19: 2.5 | C19: SINAPI | D19: 104921 | E19: ARMAÇÃO DE BLOCO, SAPATA ISOLADA, VIGA BALDRAME E SAPATA CORRIDA UTILIZANDO AÇO CA-50 DE 16 MM - MONTAGEM. AF_01/2024 | F19: kg | G19: 687 | H19: 9.97 | I19: 0.2319 | J19: =H19*1.2319 -> 12.282043 | K19: =J19*G19 -> 8437.7635
B20: 2.6 | C20: SINAPI | D20: 104922 | E20: ARMAÇÃO DE BLOCO, SAPATA ISOLADA E SAPATA CORRIDA UTILIZANDO AÇO CA-50 DE 20 MM - MONTAGEM. AF_01/2024 | F20: kg | G20: 481.12 | H20: 10.34 | I20: 0.2319 | J20: =H20*1.2319 -> 12.737846 | K20: =J20*G20 -> 6128.4325
B21: 2.7 | C21: SINAPI | D21: 99617 | E21: LASTRO DE CONCRETO MAGRO, APLICADO EM BLOCOS DE COROAMENTO OU SAPATAS, ESPESSURA DE 3 CM. AF_01/2024 | F21: M² | G21: 7.5 | H21: 22.67 | I21: 0.2319 | J21: =H21*1.2319 -> 27.927173 | K21: =J21*G21 -> 209.4538
B22: 2.8 | C22: SINAPI | D22: 96558 | E22: CONCRETAGEM DE SAPATA, FCK 30 MPA, COM USO DE BOMBA - LANÇAMENTO, ADENSAMENTO E ACABAMENTO. AF_01/2024 | F22: M³ | G22: 22.5 | H22: 884.59 | I22: 0.2319 | J22: =H22*1.2319 -> 1089.7264 | K22: =J22*G22 -> 24518.844
B23: 3 | E23: SUPRAESTRUTURA | K23: =K24+K25+K26+K27+K28+K29 -> 33490.989
B24: 3.1 | C24: SINAPI | D24: 92264 | E24: FABRICAÇÃO DE FÔRMA PARA PILARES E ESTRUTURAS SIMILARES, EM CHAPA DE MADEIRA COMPENSADA PLASTIFICADA, E = 18 MM. AF_09/2020 | F24: M² | G24: 15.52 | H24: 221.99 | I24: 0.2319 | J24: =H24*1.2319 -> 273.46948 | K24: =J24*G24 -> 4244.2463
B25: 3.2 | C25: SINAPI | D25: 92413 | E25: MONTAGEM E DESMONTAGEM DE FÔRMA DE PILARES RETANGULARES E ESTRUTURAS SIMILARES, PÉ-DIREITO SIMPLES, EM MADEIRA SERRADA, 4 UTILIZAÇÕES. AF_09/2020 | F25: M² | G25: 71.4 | H25: 112.54 | I25: 0.2319 | J25: =H25*1.2319 -> 138.63803 | K25: =J25*G25 -> 9898.7551
B26: 3.3 | C26: SINAPI | D26: 92508 | E26: MONTAGEM E DESMONTAGEM DE FÔRMA DE LAJE MACIÇA, PÉ-DIREITO DUPLO, EM CHAPA DE MADEIRA COMPENSADA RESINADA, 2 UTILIZAÇÕES. AF_09/2020 | F26: M² | G26: 1 | H26: 142.63 | I26: 0.2319 | J26: =H26*1.2319 -> 175.7059 | K26: =J26*G26 -> 175.7059
B27: 3.4 | C27: SINAPI | D27: =HYPERLINK("#"&CELL("address",OFFSET([1]Analítico!$B$1,MATCH(92759,[1]Analítico!$B:$B,0)-1,3)),92759) -> #VALUE! | E27: ARMAÇÃO DE PILAR OU VIGA DE ESTRUTURA CONVENCIONAL DE CONCRETO ARMADO UTILIZANDO AÇO CA-60 DE 5,0 MM - MONTAGEM. AF_06/2022 | F27: KG | G27: 200 | H27: 13.98 | I27: 0.2319 | J27: =H27*1.2319 -> 17.221962 | K27: =J27*G27 -> 3444.3924
B28: 3.5 | C28: SINAPI | D28: 92762 | E28: ARMAÇÃO DE PILAR OU VIGA DE ESTRUTURA CONVENCIONAL DE CONCRETO ARMADO UTILIZANDO AÇO CA-50 DE 10,0 MM - MONTAGEM. AF_06/2022 | F28: KG | G28: 275 | H28: 10.34 | I28: 0.2319 | J28: =H28*1.2319 -> 12.737846 | K28: =J28*G28 -> 3502.9076
B29: 3.6 | C29: SINAPI | D29: 103672 | E29: CONCRETAGEM DE PILARES, FCK = 25 MPA, COM USO DE BOMBA - LANÇAMENTO, ADENSAMENTO E ACABAMENTO. AF_02/2022_PS | F29: M³ | G29: 13 | H29: 763.36 | I29: 0.2319 | J29: =H29*1.2319 -> 940.38318 | K29: =J29*G29 -> 12224.981
B30: 4 | E30: ESTRUTURA METALICA | I30: =I31 -> 0.2319 | K30: =K31 -> 10224.77
B31: 4.1 | C31: MERCADO | D31: - | E31: ESTRUTURA METALICA ENTRE PILARES, EM AÇO CARBONO COM PERFIL U 100X40X2,65, DIMENSÃO 1000X500X995MM, FABRICAÇÃO E MONTAGEM | F31: UNID | G31: 1 | H31: 8300 | I31: 0.2319 | J31: =H31*1.2319 -> 10224.77 | K31: =J31*G31 -> 10224.77
B32: 5 | E32: ALVENARIA | K32: =K33+K34+K35+K36+K37+K38+K39+K40 -> 12341.86
B33: 5.1 | C33: MERCADO | D33: - | E33: REVESTIMENTO PLAQUETA TIJOLO MACIÇO 5X19X1,2MM, NA COR NATURAL | F33: M² | G33: 39.43 | H33: 140.17 | I33: 0.2319 | J33: =H33*1.2319 -> 172.67542 | K33: =J33*G33 -> 6808.5919
B34: 5.2 | C34: SINAPI INSUMO | D34: 37595 | E34: ARGAMASSA COLANTE TIPO AC3 | F34: KG | G34: 195 | H34: 1.3 | I34: 0.2319 | J34: =H34*1.2319 -> 1.60147 | K34: =J34*G34 -> 312.28665
B35: 5.3 | C35: SINAPI INSUMO | D35: 4750 | E35: MAO DE OBRA PEDREIRO ASSENTAR REVESTIMENTO | F35: H | G35: 21.68 | H35: 27.43 | I35: 0.2319 | J35: =H35*1.2319 -> 33.791017 | K35: =J35*G35 -> 732.58925
B36: 5.4 | C36: SINAPI INSUMO | D36: 6127 | E36: MAO DE OBRA AJUDANTE DE PEDREIRO PARA REVESTIMENTO | F36: H | G36: 21.68 | H36: 19.75 | I36: 0.2319 | J36: =H36*1.2319 -> 24.330025 | K36: =J36*G36 -> 527.47494
B37: 5.5 | C37: MERCADO | D37: - | E37: PINTURA RESINA BASE D'ÁGUA PARA REVESTIMENTO E CONCRETO APARENTE, 3 DEMÃOS | F37: L | G37: 25.2 | H37: 32.08 | I37: 0.2319 | J37: =H37*1.2319 -> 39.519352 | K37: =J37*G37 -> 995.88767
B38: 5.6 | C38: SINAPI INSUMO | D38: 88310 | E38: MÃO DE OBRA PINTOR - PINTURA DO PÓRTICO COM RESINA | F38: H | G38: 12 | H38: 27.01 | I38: 0.2319 | J38: =H38*1.2319 -> 33.273619 | K38: =J38*G38 -> 399.28343
B39: 5.7 | C39: SINAPI | D39: 87407 | E39: ARGAMASSA INDUSTRIALIZADA PARA REVESTIMENTOS, MISTURA E PROJEÇÃO DE 1,5 M³/H DE ARGAMASSA. AF_08/2019 | F39: M³ | G39: 0.6 | H39: 1561.17 | I39: 0.2319 | J39: =H39*1.2319 -> 1923.2053 | K39: =J39*G39 -> 1153.9232
B40: 5.8 | C40: SINAPI | D40: 102474 | E40: CONCRETO PARA BASE PILARES - DETALHES / FCK = 15MPA, TRAÇO 1:3,4:3,4 (EM MASSA SECA DE CIMENTO/ AREIA MÉDIA/ SEIXO ROLADO) - PREPARO MECÂNICO COM BETONEIRA 400 L. AF_05/2021 | F40: M³ | G40: 1.72 | H40: 666.31 | I40: 0.2319 | J40: =H40*1.2319 -> 820.82729 | K40: =J40*G40 -> 1411.8229
B41: 6 | E41: INSTALAÇÕES ELÉTRICAS | K41: =K42+K44+K43+K45+K46+K47+K48+K49+K50+K51 -> 3987.8599
...

Sheet BDI
B6: DADOS DA EMPRESA:
B7: DADOS DA LICITAÇÃO:
B8: OBJETO DO EMPREENDIMENTO: PORTAL TURÍSTICO
F9: ACORDÃO TCU/2013
B10: ITENS | C10: SIGLAS | D10: % BDI ADOTADO PELO MUNICIPIO | E10: % BDI ADOTADO PELA EMPRESA | F10: 1º QUADRI | G10: MÉDIO | H10: 3º QUADRIL
B11: ADMINISTRAÇÃO GERAL | C11: AC | D11: 0.0362 | F11: 0.03 | G11: 0.04 | H11: 0.055
B12: SEGURO E GARANTIA | C12: SG | D12: 0.008 | F12: 0.008 | G12: 0.008 | H12: 0.01
B13: RISCO | C13: R | D13: 0.0097 | F13: 0.0097 | G13: 0.0127 | H13: 0.0127
B14: DESPESAS FINANCEIRAS | C14: DF | D14: 0.0059 | F14: 0.0059 | G14: 0.0123 | H14: 0.0139
B15: LUCRO | C15: L | D15: 0.0606 | F15: 0.0606 | G15: 0.074 | H15: 0.0896
B16: ISS | C16: CP | D16: 0.0365 | F16: 0.0365 | G16: 0.0365 | H16: 0.0365
B17: TRIBUTOS (ISS, VARIÁVEL DE ACORDO COM MUNICIPIO) | C17: ISS | D17: 0.03 | F17: 0 | G17: 0.025 | H17: 0.05
B18: TRIBUTOS (CONTRIBUIÇÃO PREVIDENCIARIA SOBRE A RECEITA BRUTA -0% OU 4,5% - COM DESONERAÇÃO) | C18: CRPB | D18: 0.045 | F18: 0 | G18: 0.045 | H18: 0.045
B19: BDI SEM DESONERAÇÃO | C19: BDI PAD | D19: 0 | F19: 0.2034 | G19: 0.2212 | H19: 0.25
B20: BDI COM DESONERAÇÃO | C20: BDI DES | D20: =SUM(D11:D19) -> 0.2319
B21: PERCENTUAL DA BASE DE CALCULO MINIMO PARA MÃO DE OBRA PARA INSS | H21: 0.3
B22: LEGISLAÇÃO MUNICIPAL SOBRE A BASE DE CÁLCULO, ALÍQUITA DO ISS | H22: 0.03
B24: DECLARO PARA OS DEVIDOS FINS QUE, CONFORME LEGISLAÇÃO TRIBUTÁRIA MUNICIPAL, A BASE DE CALCULO MINIMA PARA MÃO DE OBRA É DE 30% SOBRE O VALOR DO EMPREENDIMENTO, COM RESPECTIVA ALÍQUOTA DE ISSQN DE 3%, OU CONFORME ENQUADRAMENTO DA EMPRESA
B28: OBSERVAÇÕES:
B30: JABORÁ-SC | C30: DATA: 27 DE OUTUBRO DE 2025
B33: RESPONSÁVEL TÉCNICO, ENG CIVIL MATHEUS GREZEL, CREA/SC 158844-1 | D33: RESPONSÁVEL PELA EMPRESA

Sheet Cronograma
A1: =Orçamento!B1 -> OBJETO: CONTRATAÇÃO DE EMPRESA ESPECIALIZADA, PARA CONSTRUÇÃO DO PORTAL, LOCALIZADO NO ACESSO DO CENTRO DE EVENTOS MUNICIPAL DE JABORÁ-SC, CONFORME PLANILHA ORÇAMENTÁRIA, MEMORIAL DESCRITÍVO E PROJETOS.
A2: Proprietário: | B2: =Orçamento!D3 -> MUNICIPIO DE JABORÁ-SC | H2: Assinaturas
A3: Endereço da Obra: | B3: =Orçamento!D4 -> CENTRO DE EVENTOS MUNICIPAL DE JABORÁ-SC, ACESSO PÚBLICO. | H3: Proprietário
A4: Resp. Técnico: | B4: MATHEUS GREZEL CREA/SC 158844-1 | H4: Responsável Técnico
A5: Referências: | B5: =Orçamento!D6 -> SINAPI 09/2025/ MERCADO LOCAL/ DEINFRA
A7: Item | B7: Descrição | D7: % Total | E7: 1º Mês | H7: 2º Mês | K7: 3º Mês
C8: Total | E8: Total | F8: % | G8: Acum. | H8: Total | I8: % | J8: Acum. | K8: Total | L8: % | M8: Acum.
A9: 1 | B9: =Orçamento!E10 -> SERVIÇOS PRELIMINARES | C9: =Orçamento!K10 -> 9057.0283 | D9: =C9/C$16 -> 0.039906978 | E9: =F9*C9 -> 9057.0283 | F9: 1 | G9: =F9 -> 1 | H9: =I9*C9 -> 0 | I9: 0 | J9: =I9+G9 -> 1 | K9: =C9*L9 -> 0 | L9: 0 | M9: =L9+J9 -> 1
A10: 2 | B10: FUNDAÇÃO | C10: 43777.05 | D10: =C10/C$16 -> 0.19288995 | E10: =F10*C10 -> 43777.05 | F10: 1 | G10: =F10 -> 1 | H10: =I10*C10 -> 0 | I10: 0 | J10: =I10+G10 -> 1 | K10: =C10*L10 -> 0 | L10: 0 | M10: =L10+J10 -> 1
A11: 3 | B11: SUPRAESTRUTURA | C11: 33490.99 | D11: =C11/C$16 -> 0.14756763 | E11: =F11*C11 -> 3349.099 | F11: 0.1 | G11: =F11 -> 0.1 | H11: =I11*C11 -> 26792.792 | I11: 0.8 | J11: =I11+G11 -> 0.9 | K11: =C11*L11 -> 3349.099 | L11: 0.1 | M11: =L11+J11 -> 1
A12: 4 | B12: ESTRUTURA METALICA | C12: 10224.77 | D12: =C12/C$16 -> 0.045052269 | E12: =F12*C12 -> 0 | F12: 0 | G12: =F12 -> 0 | H12: =I12*C12 -> 1022.477 | I12: 0.1 | J12: =I12+G12 -> 0.1 | K12: =C12*L12 -> 9202.293 | L12: 0.9 | M12: =L12+J12 -> 1
A13: 5 | B13: ALVENARIA | C13: 12341.86 | D13: =C13/C$16 -> 0.054380567 | E13: =F13*C13 -> 0 | F13: 0 | G13: 0 | H13: =I13*C13 -> 2468.372 | I13: 0.2 | J13: =I13+G13 -> 0.2 | K13: =C13*L13 -> 9873.488 | L13: 0.8 | M13: =L13+J13 -> 1
A14: 6 | B14: INSTALAÇÕES ELÉTRICAS | C14: 3987.86 | D14: =C14/C$16 -> 0.017571265 | E14: =F14*C14 -> 797.572 | F14: 0.2 | G14: =F14 -> 0.2 | H14: =I14*C14 -> 797.572 | I14: 0.2 | J14: =I14+G14 -> 0.4 | K14: =C14*L14 -> 2392.716 | L14: 0.6 | M14: =L14+J14 -> 1
A15: 7 | B15: FECHAMENTO PORTICO ACM | C15: =Orçamento!K52 -> 114073.94 | D15: =C15/C$16 -> 0.50263134 | E15: =F15*C15 -> 0 | F15: 0 | G15: =F15 -> 0 | H15: =I15*C15 -> 28518.485 | I15: 0.25 | J15: =I15+G15 -> 0.25 | K15: =C15*L15 -> 85555.455 | L15: 0.75 | M15: =L15+J15 -> 1
A16: Total da Obra | C16: =SUM(C9:C15) -> 226953.5 | D16: =SUM(D9:D15) -> 1 | E16: =SUM(E9:E15) -> 56980.749 | F16: =E16/C16 -> 0.25106795 | G16: =F16 -> 0.25106795 | H16: =SUM(H9:H15) -> 59599.698 | I16: =H16/C16 -> 0.26260753 | J16: =I16+G16 -> 0.51367548 | K16: =SUM(K9:K15) -> 110373.05 | L16: =K16/C16 -> 0.48632452 | M16: =L16+J16 -> 1
R21: OBJETO: CONTRATAÇÃO DE EMPRESA ESPECIALIZADA, PARA CONSTRUÇÃO DO PORTAL, LOCALIZADO NO ACESSO DO CENTRO DE EVENTOS MUNICIPAL DE JABORÁ-SC, CONFORME PLANILHA ORÇAMENTÁRIA, MEMORIAL DESCRITÍVO E PROJETOS.
R23: PROPRIETÁRIO | T23: MUNICIPIO DE JABORÁ-SC | V23: CNPJ | X23: 82.939.463/0001-88 | Z23: BDI 23,19%
R24: ENDEREÇO | T24: CENTRO DE EVENTOS MUNICIPAL DE JABORÁ-SC, ACESSO PÚBLICO.
R25: RESPONSÁVEL TÉCNICO | T25: ENG. CIVIL MATHEUS GREZEL CREA/SC 158844-1 - MG ENGENHARIA E CONSTRUÇÕES LTDA | V25: CNPJ | X25: 47.193.250/0004-59
R26: REFERÊNCIAS: | T26: SINAPI 09/2025/ MERCADO LOCAL/ DEINFRA | V26: DATA | X26: 27 de Outubro de 2025
