Workbook

Sheet Orçamento
B1: OBJETO: CONTRATAÇÃO DE EMPRESA ESPECIALIZADA, PARA CONSTRUÇÃO DO PORTAL, LOCALIZADO NO ACESSO DE JABORÁ, PELA RODOVIA SC 467 - NO CORTE DE PEDRAS PROXIMA AO KM 2,132. PONTO A DEFINIR PELO SETOR DE ENGENHARIA DO MUNCIPIO
B3: PROPRIETÁRIO | D3: MUNICIPIO DE JABORÁ-SC | F3: CNPJ | H3: 82.939.463/0001-88 | J3: BDI 23,19%
B4: ENDEREÇO | D4: JABORÁ-SC ACESSO PELA RODOVIA SC 467, KM 2,132
B5: RESPONSÁVEL TÉCNICO | D5: ENG. CIVIL MATHEUS GREZEL CREA/SC 158844-1 - MG ENGENHARIA E CONSTRUÇÕES LTDA | F5: CNPJ | H5: 47.193.250/0004-59
B6: REFERÊNCIAS: | D6: SINAPI 09/2025/ MERCADO LOCAL/ DEINFRA | F6: DATA | H6: 27 de Outubro de 2025
B8: Item | C8: Banco | D8: Código | E8: Descrição | F8: Un. | G8: Qtd. | H8: CIUSTO UNITARIO SEM BDI R$ | I8: BDI 23,19% | J8: CIUSTO UNITARIO COM BDI R$ | K8: PREÇO TOTAL R$
B10: 1 | E10: SERVIÇOS PRELIMINARES | K10: =K11+K12+K13 -> 9057.0283
B11: 1.1 | C11: DEINFRA | D11: 43222 | E11: EXECUÇÃO DE DEPÓSITO EM CANTEIRO DE OBRA EM CHAPA DE MADEIRA COMPENSADA 12MM, SEM FORRO | F11: M2 | G11: 9 | H11: 406.36 | I11: 0.2319 | J11: =H11*1.2319 -> 500.59488 | K11: =J11*G11 -> 4505.354
B12: 1.2 | C12: SINAPI | D12: 103689 | E12: PLACA DE OBRA (PARA CONSTRUCAO CIVIL) EM CHAPA GALVANIZADA *N. 22*, ADESIVADA, DE 2,4 X 1,2* M | F12: M2 | G12: 2.88 | H12: 463.66 | I12: 0.2319 | J12: =H12*1.2319 -> 571.18275 | K12: =J12*G12 -> 1645.0063
B13: 1.3 | C13: SINAPI | D13: 99059 | E13: LOCAÇÃO CONVENCIONAL DE OBRA, UTILIZANDO GABARITO DE TABUAS CORRIDAS PONTALETADAS A CADA 2,0M - 2 UTILIZAÇÕES AF03/2024 | F13: M | G13: 26 | H13: 90.75 | I13: 0.2319 | J13: =H13*1.2319 -> 111.79493 | K13: =J13*G13 -> 2906.6681
B14: 2 | E14: FUNDAÇÃO | K14: =K15+K16+K17+K18+K19+K20+K21 -> 77002.193
B15: 2.1 | C15: MERCADO | E15: ESCAVADEIRA HIDRÁULICA SOBRE ESTEIRA, PESO OPERACIONAL ENTRE 22,00 E 23,50 T, POTÊNCIA NOMINAL 139 HP, COM MARTELO ROMPEDOR HIDRÁULICO 1700 KG - PARA NIVELAÇÃO DE PISO ONDE FICARÁ SAPATA DO PORTICO | F15: H | G15: 15 | H15: 680 | I15: 0.2319 | J15: =H15*1.2319 -> 837.692 | K15: =J15*G15 -> 12565.38
B16: 2.2 | C16: SINAPI | D16: 104916 | E16: ARMAÇÃO DE SAPATA ISOLADA, VIGA BALDRAME E SAPATA CORRIDA UTILIZANDO AÇO CA-60 DE 5 MM - MONTAGEM. AF_01/2024 | F16: kg | G16: 135.6 | H16: 16.9 | I16: 0.2319 | J16: =H16*1.2319 -> 20.81911 | K16: =J16*G16 -> 2823.0713
B17: 2.3 | C17: SINAPI | D17: 104921 | E17: ARMAÇÃO DE BLOCO, SAPATA ISOLADA, VIGA BALDRAME E SAPATA CORRIDA UTILIZANDO AÇO CA-50 DE 16 MM - MONTAGEM. AF_01/2024 | F17: kg | G17: 1804.6 | H17: 9.97 | I17: 0.2319 | J17: =H17*1.2319 -> 12.282043 | K17: =J17*G17 -> 22164.175
B18: 2.4 | C18: SINAPI | D18: 99617 | E18: LASTRO DE CONCRETO MAGRO, APLICADO EM BLOCOS DE COROAMENTO OU SAPATAS, ESPESSURA DE 3 CM. AF_01/2024 | F18: M² | G18: 21 | H18: 22.67 | I18: 0.2319 | J18: =H18*1.2319 -> 27.927173 | K18: =J18*G18 -> 586.47063
B19: 2.5 | C19: SINAPI | D19: 92264 | E19: FABRICAÇÃO DE FÔRMA PARA PILARES E ESTRUTURAS SIMILARES, EM CHAPA DE MADEIRA COMPENSADA PLASTIFICADA, E = 18 MM. AF_09/2020 | F19: M² | G19: 22.8 | H19: 221.99 | I19: 0.2319 | J19: =H19*1.2319 -> 273.46948 | K19: =J19*G19 -> 6235.1042
A20: f | B20: 2.6 | C20: SINAPI | D20: 93967 | E20: EXECUÇÃO DE GRAMPO PARA SAPATA ENGASTADA/ GRAMPEADO EM LAJE, COM COMPRIMENTO MENOR OU IGUAL A 6 M, DIÂMETRO DE 7 CM, PERFURAÇÃO COM EQUIPAMENTO MANUAL E ARMADURA COM DIÂMETRO DE 20 MM. AF_07/2024 | F20: M | G20: 23.5 | H20: 242.47 | I20: 0.2319 | J20: =H20*1.2319 -> 298.69879 | K20: =J20*G20 -> 7019.4216
B21: 2.7 | C21: SINAPI | D21: 96558 | E21: CONCRETAGEM DE SAPATA, FCK 30 MPA, COM USO DE BOMBA - LANÇAMENTO, ADENSAMENTO E ACABAMENTO. AF_01/2024 | F21: M³ | G21: 23.5 | H21: 884.59 | I21: 0.2319 | J21: =H21*1.2319 -> 1089.7264 | K21: =J21*G21 -> 25608.571
B22: 3 | E22: SUPRAESTRUTURA | K22: =K23+K24+K25+K26+K27+K28+K29 -> 54556.704
B23: 3.1 | C23: SINAPI | D23: 92264 | E23: FABRICAÇÃO DE FÔRMA PARA PILARES E ESTRUTURAS SIMILARES, EM CHAPA DE MADEIRA COMPENSADA PLASTIFICADA, E = 18 MM. AF_09/2020 | F23: M² | G23: 45.02 | H23: 221.99 | I23: 0.2319 | J23: =H23*1.2319 -> 273.46948 | K23: =J23*G23 -> 12311.596
B24: 3.3 | C24: SINAPI | D24: 92508 | E24: MONTAGEM E DESMONTAGEM DE FÔRMA DE LAJE MACIÇA, PÉ-DIREITO DUPLO, EM CHAPA DE MADEIRA COMPENSADA RESINADA, 2 UTILIZAÇÕES. AF_09/2020 | F24: M² | G24: 5.55 | H24: 142.63 | I24: 0.2319 | J24: =H24*1.2319 -> 175.7059 | K24: =J24*G24 -> 975.16773
B25: 3.4 | C25: SINAPI | D25: =HYPERLINK("#"&CELL("address",OFFSET([1]Analítico!$B$1,MATCH(92759,[1]Analítico!$B:$B,0)-1,3)),92759) -> #ERROR! | E25: ARMAÇÃO DE PILAR OU VIGA DE ESTRUTURA CONVENCIONAL DE CONCRETO ARMADO UTILIZANDO AÇO CA-60 DE 5,0 MM - MONTAGEM. AF_06/2022 | F25: KG | G25: 440.79 | H25: 13.98 | I25: 0.2319 | J25: =H25*1.2319 -> 17.221962 | K25: =J25*G25 -> 7591.2686
C26: SINAPI | D26: 92762 | E26: ARMAÇÃO DE PILAR OU VIGA DE ESTRUTURA CONVENCIONAL DE CONCRETO ARMADO UTILIZANDO AÇO CA-50 DE 10,0 MM - MONTAGEM. AF_06/2022 | F26: KG | G26: 142.2 | H26: 10.34 | I26: 0.2319 | J26: =H26*1.2319 -> 12.737846 | K26: =J26*G26 -> 1811.3217
C27: SINAPI | D27: 92763 | E27: ARMAÇÃO DE PILAR OU VIGA DE ESTRUTURA CONVENCIONAL DE CONCRETO ARMADO UTILIZANDO AÇO CA-50 DE 12,5 MM - MONTAGEM. AF_06/2022 | F27: KG | G27: 370 | H27: 8.6 | I27: 0.2319 | J27: =H27*1.2319 -> 10.59434 | K27: =J27*G27 -> 3919.9058
B28: 3.5 | C28: SINAPI | D28: 92764 | E28: ARMAÇÃO DE PILAR OU VIGA DE ESTRUTURA CONVENCIONAL DE CONCRETO ARMADO UTILIZANDO AÇO CA-50 DE 16,0 MM - MONTAGEM. AF_06/2022 | F28: KG | G28: 562.5 | H28: 8.25 | I28: 0.2319 | J28: =H28*1.2319 -> 10.163175 | K28: =J28*G28 -> 5716.7859
B29: 3.6 | C29: SINAPI | D29: 103672 | E29: CONCRETAGEM DE PILARES, FCK = 30 MPA, COM USO DE BOMBA - LANÇAMENTO, ADENSAMENTO E ACABAMENTO. AF_02/2022_PS | F29: M³ | G29: 23.64 | H29: 763.36 | I29: 0.2319 | J29: =H29*1.2319 -> 940.38318 | K29: =J29*G29 -> 22230.658
B30: 4 | E30: ESTRUTURA METALICA | I30: =I31 -> 0.2319 | K30: =K31 -> 94856.3
B31: 4.1 | C31: MERCADO | D31: - | E31: ESTRUTURA METALICA ENTRE PILARES, EM AÇO CARBONO COM PERFIL U 100X40X2,65, DIMENSÃO 1000X500X995MM, FABRICAÇÃO E MONTAGEM | F31: UNID | G31: 1 | H31: 77000 | I31: 0.2319 | J31: =H31*1.2319 -> 94856.3 | K31: =J31*G31 -> 94856.3
B32: 5 | E32: ALVENARIA | K32: =K33+K34+K35+K36+K37+K38+K39+K40+K41 -> 11668.518
B33: 5.1 | C33: MERCADO | D33: - | E33: REVESTIMENTO PLAQUETA TIJOLO MACIÇO 5X19X1,2MM, NA COR NATURAL | F33: M² | G33: 25.92 | H33: 140.17 | I33: 0.2319 | J33: =H33*1.2319 -> 172.67542 | K33: =J33*G33 -> 4475.747
B34: 5.2 | C34: SINAPI INSUMO | D34: 37595 | E34: ARGAMASSA COLANTE TIPO AC3 | F34: KG | G34: 130 | H34: 1.3 | I34: 0.2319 | J34: =H34*1.2319 -> 1.60147 | K34: =J34*G34 -> 208.1911
B35: 5.3 | C35: SINAPI INSUMO | D35: 4750 | E35: MAO DE OBRA PEDREIRO ASSENTAR REVESTIMENTO | F35: H | G35: 14.2 | H35: 27.43 | I35: 0.2319 | J35: =H35*1.2319 -> 33.791017 | K35: =J35*G35 -> 479.83244
B36: 5.4 | C36: SINAPI INSUMO | D36: 6127 | E36: MAO DE OBRA AJUDANTE DE PEDREIRO PARA REVESTIMENTO | F36: H | G36: 14.2 | H36: 19.75 | I36: 0.2319 | J36: =H36*1.2319 -> 24.330025 | K36: =J36*G36 -> 345.48636
B37: 5.5 | C37: MERCADO | D37: - | E37: PINTURA RESINA BASE D'ÁGUA PARA REVESTIMENTO E CONCRETO APARENTE, 3 DEMÃOS | F37: L | G37: 32.4 | H37: 32.08 | I37: 0.2319 | J37: =H37*1.2319 -> 39.519352 | K37: =J37*G37 -> 1280.427
B38: 5.6 | C38: SINAPI INSUMO | E38: MÃO DE OBRA PINTOR - PINTURA DO PÓRTICO COM RESINA | F38: H | G38: 15.36 | H38: 27.01 | I38: 0.2319 | J38: =H38*1.2319 -> 33.273619 | K38: =J38*G38 -> 511.08279
C39: SINAPI | D39: 103354 | E39: ALVENARIA DE VEDAÇÃO DE BLOCOS CERÂMICOS FURADOS NA HORIZONTAL DE 11,5X14X24 CM (ESPESSURA 11,5 CM) E ARGAMASSA DE ASSENTAMENTO COM PREPARO EM BETONEIRA. AF_12/2021 | F39: M² | G39: 25.92 | H39: 101.42 | I39: 0.2319 | J39: =H39*1.2319 -> 124.9393 | K39: =J39*G39 -> 3238.4266
C40: SINAPI | D40: 87381 | E40: ARGAMASSA TRAÇO 1:4 (EM VOLUME DE CIMENTO E AREIA GROSSA ÚMIDA) COM ADIÇÃO DE EMULSÃO POLIMÉRICA PARA CHAPISCO ROLADO, PREPARO MANUAL. AF_08/2019 | F40: M² | G40: 0.15 | H40: 4308.52 | I40: 0.2319 | J40: =H40*1.2319 -> 5307.6658 | K40: =J40*G40 -> 796.14987
B41: 5.8 | C41: SINAPI | D41: 87366 | E41: ARGAMASSA TRAÇO 1:6 (EM VOLUME DE CIMENTO E AREIA MÉDIA ÚMIDA) COM ADIÇÃO DE PLASTIFICANTE PARA EMBOÇO/MASSA ÚNICA/ASSENTAMENTO DE ALVENARIA DE VEDAÇÃO, PREPARO MANUAL. AF_08/2019 | F41: M² | G41: 0.4 | H41: 676.14 | I41: 0.2319 | J41: =H41*1.2319 -> 832.93687 | K41: =J41*G41 -> 333.17475
B42: 6 | E42: INSTALAÇÕES ELÉTRICAS | K42: =K43+K45+K44+K46+K47+K48+K49+K50+K51+K52 -> 8425.7156
B43: 6.1 | C43: MERCADO | D43: - | E43: REFLETOR LED 100W, A PROVA D'ÁGUA, COM LUZ QUENTE DE 3500 A 4000K, EMBUTIDOS EM CONCRETO, DIMENSÕES MINIMAS 27X7,8CM | F43: Uni. | G43: 36 | H43: 69.12 | I43: 0.2319 | J43: =H43*1.2319 -> 85.148928 | K43: =J43*G43 -> 3065.3614
...

Sheet BDI
B6: DADOS DA EMPRESA:
B7: DADOS DA LICITAÇÃO:
B8: OBJETO DO EMPREENDIMENTO: PORTAL TURÍSTICO
F9: ACORDÃO TCU/2013
B10: ITENS | C10: SIGLAS | D10: % BDI ADOTADO PELO MUNICIPIO | E10: % BDI ADOTADO PELA EMPRESA | F10: 1º QUADRI | G10: MÉDIO | H10: 3º QUADRIL
B11: ADMINISTRAÇÃO GERAL | C11: AC | D11: 0.0362 | F11: 0.03 | G11: 0.04 | H11: 0.055
B12: SEGURO E GARANTIA | C12: SG | D12: 0.008 | F12: 0.008 | G12: 0.008 | H12: 0.01
B13: RISCO | C13: R | D13: 0.0097 | F13: 0.0097 | G13: 0.0127 | H13: 0.0127
B14: DESPESAS FINANCEIRAS | C14: DF | D14: 0.0059 | F14: 0.0059 | G14: 0.0123 | H14: 0.0139
B15: LUCRO | C15: L | D15: 0.0606 | F15: 0.0606 | G15: 0.074 | H15: 0.0896
B16: ISS | C16: CP | D16: 0.0365 | F16: 0.0365 | G16: 0.0365 | H16: 0.0365
B17: TRIBUTOS (ISS, VARIÁVEL DE ACORDO COM MUNICIPIO) | C17: ISS | D17: 0.03 | F17: 0 | G17: 0.025 | H17: 0.05
B18: TRIBUTOS (CONTRIBUIÇÃO PREVIDENCIARIA SOBRE A RECEITA BRUTA -0% OU 4,5% - COM DESONERAÇÃO) | C18: CRPB | D18: 0.045 | F18: 0 | G18: 0.045 | H18: 0.045
B19: BDI SEM DESONERAÇÃO | C19: BDI PAD | D19: 0 | F19: 0.2034 | G19: 0.2212 | H19: 0.25
B20: BDI COM DESONERAÇÃO | C20: BDI DES | D20: =SUM(D11:D19) -> 0.2319
B21: PERCENTUAL DA BASE DE CALCULO MINIMO PARA MÃO DE OBRA PARA INSS | H21: 0.3
B22: LEGISLAÇÃO MUNICIPAL SOBRE A BASE DE CÁLCULO, ALÍQUITA DO ISS | H22: 0.03
B24: DECLARO PARA OS DEVIDOS FINS QUE, CONFORME LEGISLAÇÃO TRIBUTÁRIA MUNICIPAL, A BASE DE CALCULO MINIMA PARA MÃO DE OBRA É DE 30% SOBRE O VALOR DO EMPREENDIMENTO, COM RESPECTIVA ALÍQUOTA DE ISSQN DE 3%, OU CONFORME ENQUADRAMENTO DA EMPRESA
B28: OBSERVAÇÕES:
B30: JABORÁ-SC | C30: DATA: 27 DE OUTUBRO DE 2025
B33: RESPONSÁVEL TÉCNICO, ENG CIVIL MATHEUS GREZEL, CREA/SC 158844-1 | D33: RESPONSÁVEL PELA EMPRESA

Sheet Cronograma
A1: ='Orçamento'!B1 -> OBJETO: CONTRATAÇÃO DE EMPRESA ESPECIALIZADA, PARA CONSTRUÇÃO DO PORTAL, LOCALIZADO NO ACESSO DE JABORÁ, PELA RODOVIA SC 467 - NO CORTE DE PEDRAS PROXIMA AO KM 2,132. PONTO A DEFINIR PELO SETOR DE ENGENHARIA DO MUNCIPIO
A2: Proprietário: | B2: ='Orçamento'!D3 -> MUNICIPIO DE JABORÁ-SC | H2: Assinaturas
A3: Endereço da Obra: | B3: ='Orçamento'!D4 -> JABORÁ-SC ACESSO PELA RODOVIA SC 467, KM 2,132 | H3: Proprietário
A4: Resp. Técnico: | B4: MATHEUS GREZEL CREA/SC 158844-1 | H4: Responsável Técnico
A5: Referências: | B5: ='Orçamento'!D6 -> SINAPI 09/2025/ MERCADO LOCAL/ DEINFRA
A7: Item | B7: Descrição | D7: % Total | E7: 1º Mês | H7: 2º Mês | K7: 3º Mês | N7: 4º Mês
C8: Total | E8: Total | F8: % | G8: Acum. | H8: Total | I8: % | J8: Acum. | K8: Total | L8: % | M8: Acum. | N8: Total | O8: % | P8: Acum.
A9: 1 | B9: ='Orçamento'!E10 -> SERVIÇOS PRELIMINARES | C9: ='Orçamento'!K10 -> 9057.0283 | D9: =C9/C$16 -> 0.020800487 | E9: =C9*F9 -> 9057.0283 | F9: 1 | G9: =F9 -> 1 | H9: =I9*C9 -> 0 | I9: 0 | J9: =I9+F9 -> 1 | K9: =L9*C9 -> 0 | L9: 0 | M9: =L9+I9+F9 -> 1 | N9: =C9*O9 -> 0 | O9: 0 | P9: =O9+L9+I9+F9 -> 1
A10: 2 | B10: FUNDAÇÃO | C10: ='Orçamento'!K14 -> 77002.193 | D10: =C10/C$16 -> 0.17684422 | E10: =C10*F10 -> 77002.193 | F10: 1 | G10: =F10 -> 1 | H10: =I10*C10 -> 0 | I10: 0 | J10: =I10+F10 -> 1 | K10: =L10*C10 -> 0 | L10: 0 | M10: =L10+I10+F10 -> 1 | N10: =C10*O10 -> 0 | O10: 0 | P10: =O10+L10+I10+F10 -> 1
A11: 3 | B11: SUPRAESTRUTURA | C11: ='Orçamento'!K22 -> 54556.704 | D11: =C11/C$16 -> 0.12529562 | E11: =C11*F11 -> 2727.8352 | F11: 0.05 | G11: =F11 -> 0.05 | H11: =I11*C11 -> 32734.023 | I11: 0.6 | J11: =I11+F11 -> 0.65 | K11: =L11*C11 -> 19094.847 | L11: 0.35 | M11: =L11+I11+F11 -> 1 | N11: =C11*O11 -> 0 | O11: 0 | P11: =O11+L11+I11+F11 -> 1
A12: 4 | B12: ESTRUTURA METALICA | C12: ='Orçamento'!K30 -> 94856.3 | D12: =C12/C$16 -> 0.21784819 | E12: =C12*F12 -> 0 | F12: 0 | G12: =F12 -> 0 | H12: =I12*C12 -> 0 | I12: 0 | J12: =I12+F12 -> 0 | K12: =L12*C12 -> 47428.15 | L12: 0.5 | M12: =L12+I12+F12 -> 0.5 | N12: =C12*O12 -> 47428.15 | O12: 0.5 | P12: =O12+L12+I12+F12 -> 1
A13: 5 | B13: ALVENARIA | C13: ='Orçamento'!K32 -> 11668.518 | D13: =C13/C$16 -> 0.026798067 | E13: =C13*F13 -> 0 | F13: 0 | G13: =F13 -> 0 | H13: =I13*C13 -> 0 | I13: 0 | J13: =I13+F13 -> 0 | K13: =L13*C13 -> 11668.518 | L13: 1 | M13: =L13+I13+F13 -> 1 | N13: =C13*O13 -> 0 | O13: 0 | P13: =O13+L13+I13+F13 -> 1
A14: 6 | B14: INSTALAÇÕES ELÉTRICAS | C14: ='Orçamento'!K42 -> 8425.7156 | D14: =C14/C$16 -> 0.019350606 | E14: =C14*F14 -> 842.57156 | F14: 0.1 | G14: =F14 -> 0.1 | H14: =I14*C14 -> 1263.8573 | I14: 0.15 | J14: =I14+F14 -> 0.25 | K14: =L14*C14 -> 2527.7147 | L14: 0.3 | M14: =L14+I14+F14 -> 0.55 | N14: =C14*O14 -> 3791.572 | O14: 0.45 | P14: =O14+L14+I14+F14 -> 1
A15: 7 | B15: FECHAMENTO PORTICO ACM | C15: ='Orçamento'!K53 -> 179857.4 | D15: =C15/C$16 -> 0.4130628 | E15: =C15*F15 -> 0 | F15: 0 | G15: =F15 -> 0 | H15: =I15*C15 -> 0 | I15: 0 | J15: =I15+F15 -> 0 | K15: =L15*C15 -> 0 | L15: 0 | M15: =L15+I15+F15 -> 0 | N15: =C15*O15 -> 179857.4 | O15: 1 | P15: =O15+L15+I15+F15 -> 1
A16: Total da Obra | C16: =SUM(C9:C15) -> 435423.86 | D16: =SUM(D9:D15) -> 1 | E16: =SUM(E9:E15) -> 89629.629 | F16: =E16/C16 -> 0.20584455 | G16: =F16 -> 0.20584455 | H16: =SUM(H9:H15) -> 33997.88 | I16: =H16/C16 -> 0.078079965 | J16: =I16+G16 -> 0.28392452 | K16: =SUM(K9:K15) -> 80719.229 | L16: =K16/C16 -> 0.18538081 | M16: =L16+J16 -> 0.46930533 | N16: =SUM(N9:N15) -> 231077.12 | O16: =N16/C16 -> 0.53069467 | P16: =O16+L16+I16+F16 -> 1
